BEGIN:VCALENDAR
VERSION:2.0
PRODID:-//hacksw/handcal//NONSGML v1.0//EN
CALSCALE:GREGORIAN
BEGIN:VEVENT
ORGANIZER;CN=Avnet, Inc.:MAILTO:no-reply@mail.gcs-web.com
DTEND:
UID:7a47edc6-95bd-4717-8ed1-7188c53eb8eb
DTSTAMP:1776671063
LOCATION:https://avt-q3-2026.open-exchange.net
DESCRIPTION:Event Details http://ir.avnet.com/events/event-details/third-quarter-fiscal-year-2026-earnings\n\nWebcast: https://avt-q3-2026.open-exchange.net
URL;VALUE=URI:https://avt-q3-2026.open-exchange.net
SUMMARY:Avnet, Inc. - Third Quarter Fiscal Year 2026 Earnings
DTSTART:20260429T160000Z
END:VEVENT
END:VCALENDAR